BEGIN:VCALENDAR
VERSION:2.0
PRODID:-//Køge Skak klub - ECPv6.15.16//NONSGML v1.0//EN
CALSCALE:GREGORIAN
METHOD:PUBLISH
X-WR-CALNAME:Køge Skak klub
X-ORIGINAL-URL:https://koegeskakklub.dk
X-WR-CALDESC:Begivenheder for Køge Skak klub
REFRESH-INTERVAL;VALUE=DURATION:PT1H
X-Robots-Tag:noindex
X-PUBLISHED-TTL:PT1H
BEGIN:VTIMEZONE
TZID:Europe/Copenhagen
BEGIN:DAYLIGHT
TZOFFSETFROM:+0100
TZOFFSETTO:+0200
TZNAME:CEST
DTSTART:20230326T010000
END:DAYLIGHT
BEGIN:STANDARD
TZOFFSETFROM:+0200
TZOFFSETTO:+0100
TZNAME:CET
DTSTART:20231029T010000
END:STANDARD
BEGIN:DAYLIGHT
TZOFFSETFROM:+0100
TZOFFSETTO:+0200
TZNAME:CEST
DTSTART:20240331T010000
END:DAYLIGHT
BEGIN:STANDARD
TZOFFSETFROM:+0200
TZOFFSETTO:+0100
TZNAME:CET
DTSTART:20241027T010000
END:STANDARD
BEGIN:DAYLIGHT
TZOFFSETFROM:+0100
TZOFFSETTO:+0200
TZNAME:CEST
DTSTART:20250330T010000
END:DAYLIGHT
BEGIN:STANDARD
TZOFFSETFROM:+0200
TZOFFSETTO:+0100
TZNAME:CET
DTSTART:20251026T010000
END:STANDARD
END:VTIMEZONE
BEGIN:VEVENT
DTSTART;TZID=Europe/Copenhagen:20241203T170000
DTEND;TZID=Europe/Copenhagen:20241203T183000
DTSTAMP:20260421T211623
CREATED:20240717T092104Z
LAST-MODIFIED:20240717T092104Z
UID:4187-1733245200-1733250600@koegeskakklub.dk
SUMMARY:Børnetræning U13
DESCRIPTION:
URL:https://koegeskakklub.dk/event/boernetraening-u13-13/
END:VEVENT
BEGIN:VEVENT
DTSTART;TZID=Europe/Copenhagen:20241203T190000
DTEND;TZID=Europe/Copenhagen:20241203T230000
DTSTAMP:20260421T211623
CREATED:20240717T085532Z
LAST-MODIFIED:20240717T085532Z
UID:4147-1733252400-1733266800@koegeskakklub.dk
SUMMARY:Klubmesterskab i koordineret Runde 3
DESCRIPTION:
URL:https://koegeskakklub.dk/event/klubmesterskab-i-koordineret-runde-3/
END:VEVENT
BEGIN:VEVENT
DTSTART;TZID=Europe/Copenhagen:20241205T170000
DTEND;TZID=Europe/Copenhagen:20241205T183000
DTSTAMP:20260421T211623
CREATED:20240717T101613Z
LAST-MODIFIED:20240717T101613Z
UID:4293-1733418000-1733423400@koegeskakklub.dk
SUMMARY:Ungdomstræning
DESCRIPTION:
URL:https://koegeskakklub.dk/event/ungdomstraening-14/
CATEGORIES:Ungdomstræning
END:VEVENT
BEGIN:VEVENT
DTSTART;TZID=Europe/Copenhagen:20241205T170000
DTEND;TZID=Europe/Copenhagen:20241205T200000
DTSTAMP:20260421T211623
CREATED:20240717T104210Z
LAST-MODIFIED:20240717T104210Z
UID:4367-1733418000-1733428800@koegeskakklub.dk
SUMMARY:Skak På Herfølge Bibliotek
DESCRIPTION:
URL:https://koegeskakklub.dk/event/skak-paa-herfoelge-bibliotek-15/
CATEGORIES:Skak På Herfølge Bibliotek
END:VEVENT
BEGIN:VEVENT
DTSTART;VALUE=DATE:20241208
DTEND;VALUE=DATE:20241209
DTSTAMP:20260421T211623
CREATED:20240717T110336Z
LAST-MODIFIED:20240717T110336Z
UID:4440-1733616000-1733702399@koegeskakklub.dk
SUMMARY:Skakliga runde 4
DESCRIPTION:
URL:https://koegeskakklub.dk/event/skakliga-runde-4/
CATEGORIES:Holdturneringer,Skakliga
END:VEVENT
BEGIN:VEVENT
DTSTART;TZID=Europe/Copenhagen:20241210T170000
DTEND;TZID=Europe/Copenhagen:20241210T183000
DTSTAMP:20260421T211623
CREATED:20240717T092136Z
LAST-MODIFIED:20240717T092136Z
UID:4189-1733850000-1733855400@koegeskakklub.dk
SUMMARY:Børnetræning U13
DESCRIPTION:
URL:https://koegeskakklub.dk/event/boernetraening-u13-14/
END:VEVENT
BEGIN:VEVENT
DTSTART;TZID=Europe/Copenhagen:20241212T170000
DTEND;TZID=Europe/Copenhagen:20241212T183000
DTSTAMP:20260421T211623
CREATED:20240717T101637Z
LAST-MODIFIED:20240717T101637Z
UID:4295-1734022800-1734028200@koegeskakklub.dk
SUMMARY:Ungdomstræning
DESCRIPTION:
URL:https://koegeskakklub.dk/event/ungdomstraening-15/
CATEGORIES:Ungdomstræning
END:VEVENT
BEGIN:VEVENT
DTSTART;TZID=Europe/Copenhagen:20241212T170000
DTEND;TZID=Europe/Copenhagen:20241212T200000
DTSTAMP:20260421T211623
CREATED:20240717T104230Z
LAST-MODIFIED:20240717T104230Z
UID:4369-1734022800-1734033600@koegeskakklub.dk
SUMMARY:Skak På Herfølge Bibliotek
DESCRIPTION:
URL:https://koegeskakklub.dk/event/skak-paa-herfoelge-bibliotek-16/
CATEGORIES:Skak På Herfølge Bibliotek
END:VEVENT
BEGIN:VEVENT
DTSTART;TZID=Europe/Copenhagen:20241217T170000
DTEND;TZID=Europe/Copenhagen:20241217T183000
DTSTAMP:20260421T211623
CREATED:20240717T092203Z
LAST-MODIFIED:20240717T092203Z
UID:4191-1734454800-1734460200@koegeskakklub.dk
SUMMARY:Børnetræning U13
DESCRIPTION:
URL:https://koegeskakklub.dk/event/boernetraening-u13-15/
END:VEVENT
END:VCALENDAR