BEGIN:VCALENDAR
VERSION:2.0
PRODID:-//Køge Skak klub - ECPv6.15.16//NONSGML v1.0//EN
CALSCALE:GREGORIAN
METHOD:PUBLISH
X-ORIGINAL-URL:https://koegeskakklub.dk
X-WR-CALDESC:Begivenheder for Køge Skak klub
REFRESH-INTERVAL;VALUE=DURATION:PT1H
X-Robots-Tag:noindex
X-PUBLISHED-TTL:PT1H
BEGIN:VTIMEZONE
TZID:Europe/Copenhagen
BEGIN:DAYLIGHT
TZOFFSETFROM:+0100
TZOFFSETTO:+0200
TZNAME:CEST
DTSTART:20240331T010000
END:DAYLIGHT
BEGIN:STANDARD
TZOFFSETFROM:+0200
TZOFFSETTO:+0100
TZNAME:CET
DTSTART:20241027T010000
END:STANDARD
BEGIN:DAYLIGHT
TZOFFSETFROM:+0100
TZOFFSETTO:+0200
TZNAME:CEST
DTSTART:20250330T010000
END:DAYLIGHT
BEGIN:STANDARD
TZOFFSETFROM:+0200
TZOFFSETTO:+0100
TZNAME:CET
DTSTART:20251026T010000
END:STANDARD
BEGIN:DAYLIGHT
TZOFFSETFROM:+0100
TZOFFSETTO:+0200
TZNAME:CEST
DTSTART:20260329T010000
END:DAYLIGHT
BEGIN:STANDARD
TZOFFSETFROM:+0200
TZOFFSETTO:+0100
TZNAME:CET
DTSTART:20261025T010000
END:STANDARD
END:VTIMEZONE
BEGIN:VEVENT
DTSTART;TZID=Europe/Copenhagen:20250429T170000
DTEND;TZID=Europe/Copenhagen:20250429T183000
DTSTAMP:20260421T144441
CREATED:20240717T093808Z
LAST-MODIFIED:20240717T093808Z
UID:4224-1745946000-1745951400@koegeskakklub.dk
SUMMARY:Børnetræning U13
DESCRIPTION:
URL:https://koegeskakklub.dk/event/boernetraening-u13-30/
END:VEVENT
BEGIN:VEVENT
DTSTART;TZID=Europe/Copenhagen:20250429T190000
DTEND;TZID=Europe/Copenhagen:20250429T230000
DTSTAMP:20260421T144441
CREATED:20240717T094729Z
LAST-MODIFIED:20240717T095240Z
UID:4242-1745953200-1745967600@koegeskakklub.dk
SUMMARY:Køge Forår Runde 3
DESCRIPTION:
URL:https://koegeskakklub.dk/event/koege-foraar-runde-3-2/
CATEGORIES:Køge Forår
END:VEVENT
END:VCALENDAR