BEGIN:VCALENDAR
VERSION:2.0
PRODID:-//Køge Skak klub - ECPv6.15.16//NONSGML v1.0//EN
CALSCALE:GREGORIAN
METHOD:PUBLISH
X-ORIGINAL-URL:https://koegeskakklub.dk
X-WR-CALDESC:Begivenheder for Køge Skak klub
REFRESH-INTERVAL;VALUE=DURATION:PT1H
X-Robots-Tag:noindex
X-PUBLISHED-TTL:PT1H
BEGIN:VTIMEZONE
TZID:Europe/Copenhagen
BEGIN:DAYLIGHT
TZOFFSETFROM:+0100
TZOFFSETTO:+0200
TZNAME:CEST
DTSTART:20240331T010000
END:DAYLIGHT
BEGIN:STANDARD
TZOFFSETFROM:+0200
TZOFFSETTO:+0100
TZNAME:CET
DTSTART:20241027T010000
END:STANDARD
BEGIN:DAYLIGHT
TZOFFSETFROM:+0100
TZOFFSETTO:+0200
TZNAME:CEST
DTSTART:20250330T010000
END:DAYLIGHT
BEGIN:STANDARD
TZOFFSETFROM:+0200
TZOFFSETTO:+0100
TZNAME:CET
DTSTART:20251026T010000
END:STANDARD
BEGIN:DAYLIGHT
TZOFFSETFROM:+0100
TZOFFSETTO:+0200
TZNAME:CEST
DTSTART:20260329T010000
END:DAYLIGHT
BEGIN:STANDARD
TZOFFSETFROM:+0200
TZOFFSETTO:+0100
TZNAME:CET
DTSTART:20261025T010000
END:STANDARD
END:VTIMEZONE
BEGIN:VEVENT
DTSTART;TZID=Europe/Copenhagen:20250311T170000
DTEND;TZID=Europe/Copenhagen:20250311T183000
DTSTAMP:20260421T175346
CREATED:20240717T093335Z
LAST-MODIFIED:20240717T093335Z
UID:4212-1741712400-1741717800@koegeskakklub.dk
SUMMARY:Børnetræning U13
DESCRIPTION:
URL:https://koegeskakklub.dk/event/boernetraening-u13-24/
END:VEVENT
BEGIN:VEVENT
DTSTART;TZID=Europe/Copenhagen:20250311T190000
DTEND;TZID=Europe/Copenhagen:20250311T230000
DTSTAMP:20260421T175346
CREATED:20240717T090016Z
LAST-MODIFIED:20240717T090016Z
UID:4157-1741719600-1741734000@koegeskakklub.dk
SUMMARY:Klubmesterskab i koordineret Runde 8
DESCRIPTION:
URL:https://koegeskakklub.dk/event/klubmesterskab-i-koordineret-runde-8/
END:VEVENT
END:VCALENDAR