BEGIN:VCALENDAR
VERSION:2.0
PRODID:-//Køge Skak klub - ECPv6.15.16//NONSGML v1.0//EN
CALSCALE:GREGORIAN
METHOD:PUBLISH
X-WR-CALNAME:Køge Skak klub
X-ORIGINAL-URL:https://koegeskakklub.dk
X-WR-CALDESC:Begivenheder for Køge Skak klub
REFRESH-INTERVAL;VALUE=DURATION:PT1H
X-Robots-Tag:noindex
X-PUBLISHED-TTL:PT1H
BEGIN:VTIMEZONE
TZID:Europe/Copenhagen
BEGIN:DAYLIGHT
TZOFFSETFROM:+0100
TZOFFSETTO:+0200
TZNAME:CEST
DTSTART:20240331T010000
END:DAYLIGHT
BEGIN:STANDARD
TZOFFSETFROM:+0200
TZOFFSETTO:+0100
TZNAME:CET
DTSTART:20241027T010000
END:STANDARD
BEGIN:DAYLIGHT
TZOFFSETFROM:+0100
TZOFFSETTO:+0200
TZNAME:CEST
DTSTART:20250330T010000
END:DAYLIGHT
BEGIN:STANDARD
TZOFFSETFROM:+0200
TZOFFSETTO:+0100
TZNAME:CET
DTSTART:20251026T010000
END:STANDARD
BEGIN:DAYLIGHT
TZOFFSETFROM:+0100
TZOFFSETTO:+0200
TZNAME:CEST
DTSTART:20260329T010000
END:DAYLIGHT
BEGIN:STANDARD
TZOFFSETFROM:+0200
TZOFFSETTO:+0100
TZNAME:CET
DTSTART:20261025T010000
END:STANDARD
END:VTIMEZONE
BEGIN:VEVENT
DTSTART;TZID=Europe/Copenhagen:20250310T080000
DTEND;TZID=Europe/Copenhagen:20250310T170000
DTSTAMP:20260421T174501
CREATED:20250310T091349Z
LAST-MODIFIED:20250310T091349Z
UID:4526-1741593600-1741626000@koegeskakklub.dk
SUMMARY:Anna Sofie ved Junior VM
DESCRIPTION:Anna Sofie har endnu engang deltaget i international turnering. Denne gang ved U20 JuniorVM i Motenegro. \nSom det alt tid er ved disse officielle ungdomsturneringer er delagerne voldsomt underratet\, hvilket ramte Anna Sofie med færre Fide rating til følge (-59) \nTurneringen gik over 11 runder uden pauser\, da forsinkede fly gjorde at  1\, runde atartede en dag senere og den planlagte fridag blev fjernet. Et noget hård program. \nSkak.dk har givet følgende rapportage: \n  \nIndisk vinder af junior VM
URL:https://koegeskakklub.dk/event/anna-sofie-ved-junior-vm/
END:VEVENT
END:VCALENDAR