BEGIN:VCALENDAR
VERSION:2.0
PRODID:-//Køge Skak klub - ECPv6.15.16//NONSGML v1.0//EN
CALSCALE:GREGORIAN
METHOD:PUBLISH
X-WR-CALNAME:Køge Skak klub
X-ORIGINAL-URL:https://koegeskakklub.dk
X-WR-CALDESC:Begivenheder for Køge Skak klub
REFRESH-INTERVAL;VALUE=DURATION:PT1H
X-Robots-Tag:noindex
X-PUBLISHED-TTL:PT1H
BEGIN:VTIMEZONE
TZID:Europe/Copenhagen
BEGIN:DAYLIGHT
TZOFFSETFROM:+0100
TZOFFSETTO:+0200
TZNAME:CEST
DTSTART:20230326T010000
END:DAYLIGHT
BEGIN:STANDARD
TZOFFSETFROM:+0200
TZOFFSETTO:+0100
TZNAME:CET
DTSTART:20231029T010000
END:STANDARD
BEGIN:DAYLIGHT
TZOFFSETFROM:+0100
TZOFFSETTO:+0200
TZNAME:CEST
DTSTART:20240331T010000
END:DAYLIGHT
BEGIN:STANDARD
TZOFFSETFROM:+0200
TZOFFSETTO:+0100
TZNAME:CET
DTSTART:20241027T010000
END:STANDARD
BEGIN:DAYLIGHT
TZOFFSETFROM:+0100
TZOFFSETTO:+0200
TZNAME:CEST
DTSTART:20250330T010000
END:DAYLIGHT
BEGIN:STANDARD
TZOFFSETFROM:+0200
TZOFFSETTO:+0100
TZNAME:CET
DTSTART:20251026T010000
END:STANDARD
END:VTIMEZONE
BEGIN:VEVENT
DTSTART;TZID=Europe/Copenhagen:20241203T170000
DTEND;TZID=Europe/Copenhagen:20241203T183000
DTSTAMP:20260421T225946
CREATED:20240717T092104Z
LAST-MODIFIED:20240717T092104Z
UID:4187-1733245200-1733250600@koegeskakklub.dk
SUMMARY:Børnetræning U13
DESCRIPTION:
URL:https://koegeskakklub.dk/event/boernetraening-u13-13/
END:VEVENT
BEGIN:VEVENT
DTSTART;TZID=Europe/Copenhagen:20241203T190000
DTEND;TZID=Europe/Copenhagen:20241203T230000
DTSTAMP:20260421T225946
CREATED:20240717T085532Z
LAST-MODIFIED:20240717T085532Z
UID:4147-1733252400-1733266800@koegeskakklub.dk
SUMMARY:Klubmesterskab i koordineret Runde 3
DESCRIPTION:
URL:https://koegeskakklub.dk/event/klubmesterskab-i-koordineret-runde-3/
END:VEVENT
END:VCALENDAR