BEGIN:VCALENDAR
VERSION:2.0
PRODID:-//Køge Skak klub - ECPv6.15.16//NONSGML v1.0//EN
CALSCALE:GREGORIAN
METHOD:PUBLISH
X-ORIGINAL-URL:https://koegeskakklub.dk
X-WR-CALDESC:Begivenheder for Køge Skak klub
REFRESH-INTERVAL;VALUE=DURATION:PT1H
X-Robots-Tag:noindex
X-PUBLISHED-TTL:PT1H
BEGIN:VTIMEZONE
TZID:Europe/Copenhagen
BEGIN:DAYLIGHT
TZOFFSETFROM:+0100
TZOFFSETTO:+0200
TZNAME:CEST
DTSTART:20230326T010000
END:DAYLIGHT
BEGIN:STANDARD
TZOFFSETFROM:+0200
TZOFFSETTO:+0100
TZNAME:CET
DTSTART:20231029T010000
END:STANDARD
BEGIN:DAYLIGHT
TZOFFSETFROM:+0100
TZOFFSETTO:+0200
TZNAME:CEST
DTSTART:20240331T010000
END:DAYLIGHT
BEGIN:STANDARD
TZOFFSETFROM:+0200
TZOFFSETTO:+0100
TZNAME:CET
DTSTART:20241027T010000
END:STANDARD
BEGIN:DAYLIGHT
TZOFFSETFROM:+0100
TZOFFSETTO:+0200
TZNAME:CEST
DTSTART:20250330T010000
END:DAYLIGHT
BEGIN:STANDARD
TZOFFSETFROM:+0200
TZOFFSETTO:+0100
TZNAME:CET
DTSTART:20251026T010000
END:STANDARD
END:VTIMEZONE
BEGIN:VEVENT
DTSTART;TZID=Europe/Copenhagen:20241022T170000
DTEND;TZID=Europe/Copenhagen:20241022T183000
DTSTAMP:20260422T023727
CREATED:20240717T091618Z
LAST-MODIFIED:20240717T091618Z
UID:4175-1729616400-1729621800@koegeskakklub.dk
SUMMARY:Børnetræning U13
DESCRIPTION:
URL:https://koegeskakklub.dk/event/boernetraening-u13-7/
END:VEVENT
BEGIN:VEVENT
DTSTART;TZID=Europe/Copenhagen:20241022T190000
DTEND;TZID=Europe/Copenhagen:20241022T230000
DTSTAMP:20260422T023727
CREATED:20240717T085110Z
LAST-MODIFIED:20240717T085110Z
UID:4139-1729623600-1729638000@koegeskakklub.dk
SUMMARY:Klubmesterskabet i Lyn
DESCRIPTION:
URL:https://koegeskakklub.dk/event/klubmesterskabet-i-lyn/
END:VEVENT
END:VCALENDAR